BEGIN:VCALENDAR
VERSION:2.0
PRODID:-//Colleen Oakley - ECPv6.9.0//NONSGML v1.0//EN
CALSCALE:GREGORIAN
METHOD:PUBLISH
X-WR-CALNAME:Colleen Oakley
X-ORIGINAL-URL:https://colleenoakley.com
X-WR-CALDESC:Events for Colleen Oakley
REFRESH-INTERVAL;VALUE=DURATION:PT1H
X-Robots-Tag:noindex
X-PUBLISHED-TTL:PT1H
BEGIN:VTIMEZONE
TZID:UTC
BEGIN:STANDARD
TZOFFSETFROM:+0000
TZOFFSETTO:+0000
TZNAME:UTC
DTSTART:20250101T000000
END:STANDARD
END:VTIMEZONE
BEGIN:VEVENT
DTSTART;TZID=UTC:20250403T173000
DTEND;TZID=UTC:20250403T193000
DTSTAMP:20260424T093117
CREATED:20250310T141715Z
LAST-MODIFIED:20250310T145215Z
UID:5998-1743701400-1743708600@colleenoakley.com
SUMMARY:In conversation with Dallas Strawn Sunset Beach\, NC
DESCRIPTION:Colleen will be in conversation with book influencer Dallas Strawn at Silver Winery\, hosted by Pelican Beach Bookstore in NC
URL:https://colleenoakley.com/event/in-conversation-with-dallas-strawn-sunset-beach-nc/
LOCATION:Pelican Bookstore\, 1780 Chandlers Lane\, Sunset Beach\, NC
END:VEVENT
BEGIN:VEVENT
DTSTART;TZID=UTC:20250404T103000
DTEND;TZID=UTC:20250404T130000
DTSTAMP:20260424T093117
CREATED:20250310T150120Z
LAST-MODIFIED:20250310T150400Z
UID:6001-1743762600-1743771600@colleenoakley.com
SUMMARY:Litchfield Luncheon Pawley's Island\, SC
DESCRIPTION:Join Colleen for lunch and conversation about Jane and Dan at the End of the World
URL:https://colleenoakley.com/event/litchfield-luncheon-pawleys-island-sc/
END:VEVENT
BEGIN:VEVENT
DTSTART;TZID=UTC:20250404T170000
DTEND;TZID=UTC:20250404T180000
DTSTAMP:20260424T093117
CREATED:20250310T150526Z
LAST-MODIFIED:20250310T150637Z
UID:6003-1743786000-1743789600@colleenoakley.com
SUMMARY:In conversation with Jonathan Haupt Beaufort\, SC
DESCRIPTION:Colleen will be at the Pat Conroy Literary Center to discuss her new book with Jonathan Haupt
URL:https://colleenoakley.com/event/in-conversation-with-jonathan-haupt-beaufort-sc/
END:VEVENT
END:VCALENDAR