BEGIN:VCALENDAR
VERSION:2.0
PRODID:-//Colleen Oakley - ECPv6.9.0//NONSGML v1.0//EN
CALSCALE:GREGORIAN
METHOD:PUBLISH
X-WR-CALNAME:Colleen Oakley
X-ORIGINAL-URL:https://colleenoakley.com
X-WR-CALDESC:Events for Colleen Oakley
REFRESH-INTERVAL;VALUE=DURATION:PT1H
X-Robots-Tag:noindex
X-PUBLISHED-TTL:PT1H
BEGIN:VTIMEZONE
TZID:UTC
BEGIN:STANDARD
TZOFFSETFROM:+0000
TZOFFSETTO:+0000
TZNAME:UTC
DTSTART:20250101T000000
END:STANDARD
END:VTIMEZONE
BEGIN:VEVENT
DTSTART;TZID=UTC:20250402T120000
DTEND;TZID=UTC:20250402T140000
DTSTAMP:20260424T065716
CREATED:20250310T135442Z
LAST-MODIFIED:20250310T140328Z
UID:5992-1743595200-1743602400@colleenoakley.com
SUMMARY:Lunch & Lit Greenville\, SC
DESCRIPTION:Join Colleen for a delightful lunch and conversation about JANE AND DAN AT THE END OF THE WORLD at Soby’s in Greenville. Hosted by M. Judson Booksellers.
URL:https://colleenoakley.com/event/lunch-lit-greenville-sc/
LOCATION:M. Judson Books\, 130 S Main St.\, Greenville\, SC\, 29601\, United States
END:VEVENT
BEGIN:VEVENT
DTSTART;TZID=UTC:20250402T183000
DTEND;TZID=UTC:20250402T193000
DTSTAMP:20260424T065716
CREATED:20250310T140545Z
LAST-MODIFIED:20250310T140545Z
UID:5994-1743618600-1743622200@colleenoakley.com
SUMMARY:In conversation with Elle Cosimano Winston-Salem\, NC
DESCRIPTION:Colleen will be in conversation with NYT bestselling author of the Finlay Donovan series\, Elle Cosimano at BookMarks.
URL:https://colleenoakley.com/event/in-conversation-with-elle-cosimano-winston-salem-nc/
LOCATION:BookMarks\, 634 W. 4th St #110\, Winston-Salem\, North Carolina
END:VEVENT
END:VCALENDAR