BEGIN:VCALENDAR
VERSION:2.0
PRODID:-//Colleen Oakley - ECPv6.9.0//NONSGML v1.0//EN
CALSCALE:GREGORIAN
METHOD:PUBLISH
X-ORIGINAL-URL:https://colleenoakley.com
X-WR-CALDESC:Events for Colleen Oakley
REFRESH-INTERVAL;VALUE=DURATION:PT1H
X-Robots-Tag:noindex
X-PUBLISHED-TTL:PT1H
BEGIN:VTIMEZONE
TZID:UTC
BEGIN:STANDARD
TZOFFSETFROM:+0000
TZOFFSETTO:+0000
TZNAME:UTC
DTSTART:20250101T000000
END:STANDARD
END:VTIMEZONE
BEGIN:VEVENT
DTSTART;TZID=UTC:20250311T123000
DTEND;TZID=UTC:20250311T140000
DTSTAMP:20260424T090034
CREATED:20250310T134035Z
LAST-MODIFIED:20250310T134216Z
UID:5978-1741696200-1741701600@colleenoakley.com
SUMMARY:Bookmiser Launch Day signing Marietta\, GA
DESCRIPTION:Come celebrate Colleen’s launch with bubbly\, bites and get your book signed!
URL:https://colleenoakley.com/event/bookmiser-launch-day-book-signing/
LOCATION:BookMiser\, 3822 Roswell Rd\, Marietta\, GA\, 30062\, United States
END:VEVENT
END:VCALENDAR